Workbook

Sheet SPESA PERSONALE
A1: CALCOLO DELLE SPESE DI PERSONALE IN VALORE ASSOLUTO - ART. 1 COMMA 557 DELLA LEGGE 296/2006
A2: Sezione Autonomie - Delibera n. 13/2015/SEZAUT/INPR
A3: TIPOLOGIA DI SPESA - VOCI INCLUSE | B3: 2011 | C3: 2012 | D3: 2013 | E3: MEDIA 2011/2013
A4: Retribuzioni lorde, salario accessorio e lavoro straordinario del personale dipendente con contratto a tempo indeterminato e a tempo determinato | B4: 0 | C4: 0 | D4: 0 | E4: =AVERAGE(B4:D4) -> 0
A5: Spese per il proprio personale utilizzato, senza estinzione del rapporto di pubblico impiego, in strutture e organismi variamente denominati partecipati o comunque facenti capo all'ente | B5: 0 | C5: 0 | D5: 0 | E5: =AVERAGE(B5:D5) -> 0
A6: Spese per collaborazione coordinata e continuativa, per contratti di somministrazione e per altre forme di rapporto di lavoro flessibile | B6: 0 | C6: 0 | D6: 0 | E6: =AVERAGE(B6:D6) -> 0
A7: Eventuali emolumenti a carico dell'Amministrazione corrisposti ai lavoratori socialmente utili | B7: 0 | C7: 0 | D7: 0 | E7: =AVERAGE(B7:D7) -> 0
A8: Spese sostenute dall'Ente per il personale, di altri Enti, in convenzione (ai sensi degli art. 13 e 14 del CCNL 22 gennaio 2004) per la quota parte di costo effettivamente sostenuto | B8: 0 | C8: 0 | D8: 0 | E8: =AVERAGE(B8:D8) -> 0
A9: Spese sostenute per il personale previsto dall'art. 90 del d.lgs. N. 267/2000 | B9: 0 | C9: 0 | D9: 0 | E9: =AVERAGE(B9:D9) -> 0
A10: Compensi per gli incarichi conferiti ai sensi dell'art. 110, comma 1 d.lgs. N. 267/2000 | B10: 0 | C10: 0 | D10: 0 | E10: =AVERAGE(B10:D10) -> 0
A11: Compensi per gli incarichi conferiti ai sensi dell'art. 110, comma 2 d.lgs. N. 267/2001 | B11: 0 | C11: 0 | D11: 0 | E11: =AVERAGE(B11:D11) -> 0
A12: Spese per il personale con contratti di formazione e lavoro | B12: 0 | C12: 0 | D12: 0 | E12: =AVERAGE(B12:D12) -> 0
A13: Oneri riflessi a carico del datore di lavoro per contributi obbligatori | B13: 0 | C13: 0 | D13: 0 | E13: =AVERAGE(B13:D13) -> 0
A14: Spese destinate alla previdenza ed assistenza delle forze di polizia municipale ed ai progetti di miglioramento alla circolazione stradale finanziate con proventi da sanzioni del codice della strada | B14: 0 | C14: 0 | D14: 0 | E14: =AVERAGE(B14:D14) -> 0
A15: Irap | B15: 0 | C15: 0 | D15: 0 | E15: =AVERAGE(B15:D15) -> 0
A16: Oneri per il nucleo familiare, buoni pasto e spese per equo indennizzo | B16: 0 | C16: 0 | D16: 0 | E16: =AVERAGE(B16:D16) -> 0
A17: Somme rimborsate ad altre amministrazioni per il personale in posizione di comando | B17: 0 | C17: 0 | E17: =AVERAGE(B17:D17) -> 0
A18: Spese per la formazione e rimborsi per le missioni | B18: 0 | C18: 0 | E18: =AVERAGE(B18:D18) -> 0
A19: Totale (A) | B19: =SUM(B4:B18) -> 0 | C19: =SUM(C4:C18) -> 0 | D19: =SUM(D4:D18) -> 0 | E19: =AVERAGE(B19:D19) -> 0
A21: TIPOLOGIA DI SPESA - VOCI ESCLUSE | B21: 2011 | C21: 2012 | D21: 2013 | E21: =+E3 -> MEDIA 2011/2013
A22: Spese di personale totalmente a carico di finanziamenti comunitari o privati | B22: 0 | C22: 0 | D22: 0 | E22: =AVERAGE(B22:D22) -> 0
A23: Spese per il lavoro straordinario e altri oneri di personale direttamente connessi all'attività elettorale con rimborso dal Ministero | B23: 0 | C23: 0 | D23: 0 | E23: =AVERAGE(B23:D23) -> 0
A24: Spese per la formazione e rimborsi per le missioni | B24: 0 | C24: 0 | D24: 0 | E24: =AVERAGE(B24:D24) -> 0
A25: Spese per il personale trasferito dalla regione o dallo Stato per l'esercizio di funzioni delegate, nei limiti delle risorse corrispondentemente assegnate | B25: 0 | C25: 0 | D25: 0 | E25: =AVERAGE(B25:D25) -> 0
A26: Eventuali oneri derivanti dai rinnovi contrattuali pregressi ante 2011 | B26: 0 | C26: 0 | D26: 0 | E26: =AVERAGE(B26:D26) -> 0
A27: Spese per il personale appartendente alle categorie protette | B27: 0 | C27: 0 | D27: 0 | E27: =AVERAGE(B27:D27) -> 0
A28: Spese sostenute per il personale comandato presso altre amministrazioni per le quali è previsto il rimborso dalle amministrazioni | B28: 0 | C28: 0 | D28: 0 | E28: =AVERAGE(B28:D28) -> 0
A29: Spese per il personale stagionale a progetto nelle forme di contratto a tempo determinato di lavoro flessibile finanziato con quote di proventi per violazione al Codice della Strada | B29: 0 | C29: 0 | D29: 0 | E29: =AVERAGE(B29:D29) -> 0
A30: Incentivi per la progettazione | B30: 0 | C30: 0 | D30: 0 | E30: =AVERAGE(B30:D30) -> 0
A31: Incentivi per il recupero ICI | B31: 0 | C31: 0 | D31: 0 | E31: =AVERAGE(B31:D31) -> 0
A32: Diritti di rogito | B32: 0 | C32: 0 | D32: 0 | E32: =AVERAGE(B32:D32) -> 0
A33: Spese per l'assunzione di personale ex dipendente dell'Amministrazione autonoma di Monopoli di Stato (legge 30 luglio 2010, n. 122, art. 9, comma 25) | B33: 0 | C33: 0 | D33: 0 | E33: =AVERAGE(B33:D33) -> 0
A34: Maggiori spese autorizzate -entro il 31 maggio 2010 - ai sensi dell'art. 3 comma 120 della legge n. 244/2007 | B34: 0 | C34: 0 | D34: 0 | E34: =AVERAGE(B34:D34) -> 0
A35: Spese per il lavoro straordinario e altri oneri di personale direttamente connessi all'attività di Censimento finanziate dall'ISTAT (circolare Ministero Economia e Finanza n. 16/2012) | B35: 0 | C35: 0 | E35: =AVERAGE(B35:D35) -> 0
A36: Altre spese escluse ai sensi della normativa vigente - rimborsi per LSU | B36: 0 | C36: 0 | D36: 0 | E36: =AVERAGE(B36:D36) -> 0
A37: Totale (B) | B37: =SUM(B22:B36) -> 0 | C37: =SUM(C22:C36) -> 0 | D37: =SUM(D22:D36) -> 0 | E37: =AVERAGE(B37:D37) -> 0
A39: TOTALE SPESE DI PERSONALE DA RISPETTARE COME LIMITE AI SENSI DELL'ART. 1 COMMA 557 DELLA LEGGE 296/2006 (A-B) | B39: =+B19-B37 -> 0 | C39: =+C19-C37 -> 0 | D39: =+D19-D37 -> 0 | E39: =+E19-E37 -> 0

Sheet CONFRONTO
A1: CALCOLO DELLE SPESE DI PERSONALE IN VALORE ASSOLUTO - ART. 1 COMMA 557 DELLA LEGGE 296/2006
A2: Sezione Autonomie - Delibera n. 13/2015/SEZAUT/INPR
A3: TIPOLOGIA DI SPESA - VOCI INCLUSE | C3: MEDIA 2011/2013 | D3: 2025
A4: Retribuzioni lorde, salario accessorio e lavoro straordinario del personale dipendente con contratto a tempo indeterminato e a tempo determinato | C4: ='SPESA PERSONALE'!E4 -> 0 | D4: =1113895.5-20593.82-17635.8-15000 -> 1060665.9
A5: Quota salario accessorio e lavoro straordinario del personale dipendente con contratto a tempo indeterminato e a tempo determinato ed altre spese di personale derivante da reimputazioni dell'esercizio precedente - anno 2024 finanziate con FPV di entrata di parte corrente | D5: 114750.69 | E5: vedi verifica 557 - 2024
A6: Spese per personale utilizzato, senza estinzione del rapporto di pubblico impiego, in strutture e organismi variamente denominati partecipati o comunque facenti capo all'ente | C6: ='SPESA PERSONALE'!E5 -> 0 | D6: 0
A7: Spese per collaborazione coordinata e continuativa, per contratti di somministrazione e per altre forme di rapporto di lavoro flessibile | C7: ='SPESA PERSONALE'!E6 -> 0 | D7: 0
A8: Eventuali emolumenti a carico dell'Amministrazione corrisposti ai lavoratori socialmente utili | C8: ='SPESA PERSONALE'!E7 -> 0 | D8: 0
A9: Spese sostenute dall'Ente per il personale di altri Enti in convenzione (ai sensi dell'art. 23 del CCNL del 16 novembre 2022) per la quota parte di costo effettivamente sostenuto | C9: ='SPESA PERSONALE'!E8 -> 0 | D9: 0
A10: Spese sostenute per il personale previsto dall'art. 90 del Decreto Legislativo 18 agosto 2000, n. 267 | C10: ='SPESA PERSONALE'!E9 -> 0 | D10: 20593.82 | E10: ok
A11: Compensi per gli incarichi conferiti ai sensi dell'art. 110, comma 1 del Decreto Legislativo 18 agosto 2000, n. 267 | C11: ='SPESA PERSONALE'!E10 -> 0 | D11: 17635.8 | E11: ok part - time 18 h d1/d1
A12: Compensi per gli incarichi conferiti ai sensi dell'art. 110, comma 2 del Decreto Legislativo 18 agosto 2000, n. 267 | C12: ='SPESA PERSONALE'!E11 -> 0 | D12: 0
A13: Spese per il personale con contratti di formazione e lavoro | C13: ='SPESA PERSONALE'!E12 -> 0 | D13: 0
A14: Oneri riflessi a carico del datore di lavoro per contributi obbligatori | C14: ='SPESA PERSONALE'!E13 -> 0 | D14: 299858.81 | E14: ok
A15: Spese destinate alla previdenza ed assistenza delle forze di polizia municipale ed ai progetti di miglioramento alla circolazione stradale finanziate con proventi da sanzioni del codice della strada | C15: ='SPESA PERSONALE'!E14 -> 0
A16: IRAP | C16: ='SPESA PERSONALE'!E15 -> 0 | D16: 91030.75 | E16: ok
A17: Oneri per il nucleo familiare, buoni pasto e spese per equo indennizzo | C17: ='SPESA PERSONALE'!E16 -> 0 | D17: 15000 | E17: ok - buoni pasto
A18: Somme rimborsate ad altre amministrazioni per il personale in posizione di comando | C18: ='SPESA PERSONALE'!E17 -> 0 | D18: 0
A19: Spese per la formazione e rimborsi per le missioni | C19: ='SPESA PERSONALE'!E18 -> 0 | D19: 4300 | E19: ok
A20: Totale (A) | C20: =SUM(C4:C19) -> 0 | D20: =SUM(D4:D19) -> 1623835.8
A22: TIPOLOGIA DI SPESA - VOCI ESCLUSE | C22: =+C3 -> MEDIA 2011/2013 | D22: 2025
A23: Spese di personale totalmente a carico di finanziamenti comunitari o privati | C23: ='SPESA PERSONALE'!E22 -> 0 | D23: 0
A24: Quota salario accessorio e lavoro straordinario del personale dipendente con contratto a tempo indeterminato e a tempo determinato ed altre spese di personale imputata nell'esercizio successivo - FPV di spesa anno 2025 | D24: 274542.06 | E24: quote fondo contrattazione decentrata e risultato E.Q. 2024 e 2025 esigibilità 2026
A25: Spese per il lavoro straordinario e altri oneri di personale direttamente connessi all'attività elettorale con rimborso dal Ministero | C25: ='SPESA PERSONALE'!E23 -> 0 | D25: 0
A26: Spese per la formazione e rimborsi per le missioni | C26: ='SPESA PERSONALE'!E24 -> 0 | D26: =D19 -> 4300
A27: Spese per il personale trasferito dalla regione o dallo Stato per l'esercizio di funzioni delegate, nei limiti delle risorse corrispondentemente assegnate | C27: ='SPESA PERSONALE'!E25 -> 0 | D27: 0
A28: Oneri per rinnovi contrattuali ante 2011 | C28: ='SPESA PERSONALE'!E26 -> 0 | D28: 0
A29: Oneri per rinnovi contrattuali triennio 2016/2018 | D29: =11918.27+(11918.27*32.3/100) -> 15767.871
A30: Oneri per rinnovi contrattuali triennio 2019/2021 | D30: =20946.18+3073.85+((20946.18+3073.85)*32.3/100) -> 31778.5
A31: Oneri per rinnovi contrattuali triennio 2022/2024 - IVC liquidata nel bilancio di previsione 2025 + contributi e irap | D31: =32000+(32000*32.3/100) -> 42336
A32: Spese per il personale appartendente alle categorie protette - Simone | C32: ='SPESA PERSONALE'!E27 -> 0 | D32: =13203.32+(13203.32*23.8/100) -> 16345.71
A33: Spese sostenute per il personale comandato presso altre amministrazioni per le quali è previsto il rimborso dalle amministrazioni (scavalchi condivisi) fino al 30/06/2025 | C33: ='SPESA PERSONALE'!E28 -> 0 | D33: 10229.83
A34: Rimborso da Marciana Marina per segreteria unica | D34: =62968.36+597.12+4205.24 -> 67770.72 | E34: ok - comprensivo rimborso marciana marina - lordo irap + buoni pasto € 6,22 per 96
A35: Incentivi per la progettazione comprensivi di IRAP | C35: ='SPESA PERSONALE'!E30 -> 0 | D35: 10000
A36: Incentivi per il recupero ICI comprensivi di IRAP | C36: ='SPESA PERSONALE'!E31 -> 0 | D36: -
A37: direttore operativo antincendio - trasferimento unione colline metallifere | D37: 1519.2
A38: Diritti di rogito | C38: ='SPESA PERSONALE'!E32 -> 0 | D38: 0
A39: Spese per l'assunzione di personale ex dipendente dell'Amministrazione autonoma di Monopoli di Stato (legge 30 luglio 2010, n. 122, art. 9, comma 25) | C39: ='SPESA PERSONALE'!E33 -> 0 | D39: 0
A40: Maggiori spese autorizzate - entro il 31 maggio 2010 - ai sensi dell'art. 3 comma 120 della legge n. 244/2007 | C40: ='SPESA PERSONALE'!E34 -> 0 | D40: 0
A41: Spese per il lavoro straordinario e altri oneri di personale direttamente connessi all'attività di Censimento finanziate dall'ISTAT (circolare Ministero Economia e Finanza n. 16/2012) | C41: ='SPESA PERSONALE'!E35 -> 0 | D41: 0
...
